<?xml version="1.0" encoding="UTF-8"?>
<Capabilities xmlns="http://www.opengis.net/wmts/1.0"
xmlns:ows="http://www.opengis.net/ows/1.1"
xmlns:xlink="http://www.w3.org/1999/xlink"
xmlns:xsi="http://www.w3.org/2001/XMLSchema-instance"
xmlns:gml="http://www.opengis.net/gml"
xsi:schemaLocation="http://www.opengis.net/wmts/1.0 http://schemas.opengis.net/wmts/1.0/wmtsGetCapabilities_response.xsd"
version="1.0.0">
<!-- Service Identification --> <ows:ServiceIdentification>
<ows:Title>DOP_DOP10_2025</ows:Title>
<ows:ServiceType>OGC WMTS</ows:ServiceType>
<ows:ServiceTypeVersion>1.0.0</ows:ServiceTypeVersion>
</ows:ServiceIdentification> <!-- Operations Metadata --> <ows:OperationsMetadata>
<ows:Operation name="GetCapabilities">
<ows:DCP>
<ows:HTTP>
<ows:Get xlink:href="https://geo.rhein-erft-kreis.de/arcgis/rest/services/DOP/DOP10_2025/MapServer/WMTS/1.0.0/WMTSCapabilities.xml">
<ows:Constraint name="GetEncoding">
<ows:AllowedValues>
<ows:Value>RESTful</ows:Value>
</ows:AllowedValues>
</ows:Constraint>
</ows:Get>
<!-- add KVP binding in 10.1 -->
<ows:Get xlink:href="https://geo.rhein-erft-kreis.de/arcgis/rest/services/DOP/DOP10_2025/MapServer/WMTS?">
<ows:Constraint name="GetEncoding">
<ows:AllowedValues>
<ows:Value>KVP</ows:Value>
</ows:AllowedValues>
</ows:Constraint>
</ows:Get>
</ows:HTTP>
</ows:DCP>
</ows:Operation>
<ows:Operation name="GetTile">
<ows:DCP>
<ows:HTTP>
<ows:Get xlink:href="https://geo.rhein-erft-kreis.de/arcgis/rest/services/DOP/DOP10_2025/MapServer/WMTS/tile/1.0.0/">
<ows:Constraint name="GetEncoding">
<ows:AllowedValues>
<ows:Value>RESTful</ows:Value>
</ows:AllowedValues>
</ows:Constraint>
</ows:Get>
<ows:Get xlink:href="https://geo.rhein-erft-kreis.de/arcgis/rest/services/DOP/DOP10_2025/MapServer/WMTS?">
<ows:Constraint name="GetEncoding">
<ows:AllowedValues>
<ows:Value>KVP</ows:Value>
</ows:AllowedValues>
</ows:Constraint>
</ows:Get>
</ows:HTTP>
</ows:DCP>
</ows:Operation>
</ows:OperationsMetadata> <Contents>
<!--Layer--> <Layer>
<ows:Title>DOP_DOP10_2025</ows:Title> <ows:Identifier>DOP_DOP10_2025</ows:Identifier>
<ows:BoundingBox crs="urn:ogc:def:crs:EPSG::25832">
<ows:LowerCorner>321000.03227716405 5620000.042936342</ows:LowerCorner>
<ows:UpperCorner>362000.03227716405 5660000.042936342</ows:UpperCorner>
</ows:BoundingBox> <ows:WGS84BoundingBox crs="urn:ogc:def:crs:OGC:2:84">
<ows:LowerCorner>6.445368298510685 50.70422666160254</ows:LowerCorner>
<ows:UpperCorner>7.045195753480265 51.07490015682239</ows:UpperCorner>
</ows:WGS84BoundingBox>
<Style isDefault="true">
<ows:Title>Default Style</ows:Title>
<ows:Identifier>default</ows:Identifier>
</Style>
<Format>image/png</Format>
<TileMatrixSetLink>
<TileMatrixSet>default028mm</TileMatrixSet>
</TileMatrixSetLink>
<ResourceURL format="image/png" resourceType="tile" template="https://geo.rhein-erft-kreis.de/arcgis/rest/services/DOP/DOP10_2025/MapServer/WMTS/tile/1.0.0/DOP_DOP10_2025/{Style}/{TileMatrixSet}/{TileMatrix}/{TileRow}/{TileCol}.png" />
</Layer> <!--TileMatrixSet-->
<TileMatrixSet>
<ows:Title>TileMatrix using 0.28mm</ows:Title>
<ows:Abstract>The tile matrix set that has scale values calculated based on the dpi defined by OGC specification (dpi assumes 0.28mm as the physical distance of a pixel).</ows:Abstract> <ows:Identifier>default028mm</ows:Identifier>
<ows:SupportedCRS>urn:ogc:def:crs:EPSG::25832</ows:SupportedCRS>
<TileMatrix>
<ows:Identifier>0</ows:Identifier>
<ScaleDenominator>283482.7098225269</ScaleDenominator>
<TopLeftCorner>-5120900.0 9998100.0</TopLeftCorner> <TileWidth>512</TileWidth> <TileHeight>512</TileHeight>
<MatrixWidth>135</MatrixWidth> <MatrixHeight>108</MatrixHeight>
</TileMatrix>
<TileMatrix>
<ows:Identifier>1</ows:Identifier>
<ScaleDenominator>188988.4732150179</ScaleDenominator>
<TopLeftCorner>-5120900.0 9998100.0</TopLeftCorner> <TileWidth>512</TileWidth> <TileHeight>512</TileHeight>
<MatrixWidth>203</MatrixWidth> <MatrixHeight>162</MatrixHeight>
</TileMatrix>
<TileMatrix>
<ows:Identifier>2</ows:Identifier>
<ScaleDenominator>94494.23660750895</ScaleDenominator>
<TopLeftCorner>-5120900.0 9998100.0</TopLeftCorner> <TileWidth>512</TileWidth> <TileHeight>512</TileHeight>
<MatrixWidth>405</MatrixWidth> <MatrixHeight>324</MatrixHeight>
</TileMatrix>
<TileMatrix>
<ows:Identifier>3</ows:Identifier>
<ScaleDenominator>47247.118303754476</ScaleDenominator>
<TopLeftCorner>-5120900.0 9998100.0</TopLeftCorner> <TileWidth>512</TileWidth> <TileHeight>512</TileHeight>
<MatrixWidth>810</MatrixWidth> <MatrixHeight>647</MatrixHeight>
</TileMatrix>
<TileMatrix>
<ows:Identifier>4</ows:Identifier>
<ScaleDenominator>23623.559151877238</ScaleDenominator>
<TopLeftCorner>-5120900.0 9998100.0</TopLeftCorner> <TileWidth>512</TileWidth> <TileHeight>512</TileHeight>
<MatrixWidth>1619</MatrixWidth> <MatrixHeight>1293</MatrixHeight>
</TileMatrix>
<TileMatrix>
<ows:Identifier>5</ows:Identifier>
<ScaleDenominator>14174.135491126344</ScaleDenominator>
<TopLeftCorner>-5120900.0 9998100.0</TopLeftCorner> <TileWidth>512</TileWidth> <TileHeight>512</TileHeight>
<MatrixWidth>2699</MatrixWidth> <MatrixHeight>2155</MatrixHeight>
</TileMatrix>
<TileMatrix>
<ows:Identifier>6</ows:Identifier>
<ScaleDenominator>9449.423660750896</ScaleDenominator>
<TopLeftCorner>-5120900.0 9998100.0</TopLeftCorner> <TileWidth>512</TileWidth> <TileHeight>512</TileHeight>
<MatrixWidth>4048</MatrixWidth> <MatrixHeight>3232</MatrixHeight>
</TileMatrix>
<TileMatrix>
<ows:Identifier>7</ows:Identifier>
<ScaleDenominator>4724.711830375448</ScaleDenominator>
<TopLeftCorner>-5120900.0 9998100.0</TopLeftCorner> <TileWidth>512</TileWidth> <TileHeight>512</TileHeight>
<MatrixWidth>8095</MatrixWidth> <MatrixHeight>6464</MatrixHeight>
</TileMatrix>
<TileMatrix>
<ows:Identifier>8</ows:Identifier>
<ScaleDenominator>1889.8847321501792</ScaleDenominator>
<TopLeftCorner>-5120900.0 9998100.0</TopLeftCorner> <TileWidth>512</TileWidth> <TileHeight>512</TileHeight>
<MatrixWidth>20238</MatrixWidth> <MatrixHeight>16160</MatrixHeight>
</TileMatrix>
<TileMatrix>
<ows:Identifier>9</ows:Identifier>
<ScaleDenominator>944.9423660750896</ScaleDenominator>
<TopLeftCorner>-5120900.0 9998100.0</TopLeftCorner> <TileWidth>512</TileWidth> <TileHeight>512</TileHeight>
<MatrixWidth>40475</MatrixWidth> <MatrixHeight>32319</MatrixHeight>
</TileMatrix>
<TileMatrix>
<ows:Identifier>10</ows:Identifier>
<ScaleDenominator>472.4711830375448</ScaleDenominator>
<TopLeftCorner>-5120900.0 9998100.0</TopLeftCorner> <TileWidth>512</TileWidth> <TileHeight>512</TileHeight>
<MatrixWidth>80949</MatrixWidth> <MatrixHeight>64638</MatrixHeight>
</TileMatrix>
</TileMatrixSet>
</Contents>
<ServiceMetadataURL xlink:href="https://geo.rhein-erft-kreis.de/arcgis/rest/services/DOP/DOP10_2025/MapServer/WMTS/1.0.0/WMTSCapabilities.xml" /> </Capabilities>
